BEGIN:VCALENDAR
VERSION:2.0
PRODID:-//Wheeling Nailers//wheelingnailers.com//EN
CALSCALE:GREGORIAN
BEGIN:VEVENT
UID:https://wheelingnailers.com/games/2026/04/29/reading-royals
DTSTAMP:20260420T142720Z
SUMMARY:Wheeling Nailers @ Reading Royals
DTSTART;TZID=Canada/Eastern:20260429T190000
DTEND;TZID=Canada/Eastern:20260429T220000
DESCRIPTION:Wheeling Nailers at Reading Royals
LOCATION:Santander Arena\, Reading\, Pennsylvania
URL;VALUE=URI:https://wheelingnailers.com/games/2026/04/29/reading-royals
END:VEVENT
END:VCALENDAR
