BEGIN:VCALENDAR
VERSION:2.0
PRODID:-//Wheeling Nailers//wheelingnailers.com//EN
CALSCALE:GREGORIAN
BEGIN:VEVENT
UID:https://wheelingnailers.com/games/2026/05/02/reading-royals
DTSTAMP:20260420T141011Z
SUMMARY:Wheeling Nailers @ Reading Royals
DTSTART;TZID=Canada/Eastern:20260502T190000
DTEND;TZID=Canada/Eastern:20260502T220000
DESCRIPTION:Wheeling Nailers at Reading Royals
LOCATION:Santander Arena\, Reading\, Pennsylvania
URL;VALUE=URI:https://wheelingnailers.com/games/2026/05/02/reading-royals
END:VEVENT
END:VCALENDAR
